BEGIN:VCALENDAR
VERSION:2.0
PRODID:-//InvisionCommunity Events 4.7.18//EN
METHOD:PUBLISH
CALSCALE:GREGORIAN
REFRESH-INTERVAL:PT15M
X-PUBLISHED-TTL:PT15M
X-WR-CALNAME:All Calendars - Clube do Argo / Cronos
NAME:All Calendars - Clube do Argo / Cronos
BEGIN:VTIMEZONE
TZID:Europe/London
TZURL:http://tzurl.org/zoneinfo/Europe/London
X-LIC-LOCATION:Europe/London
BEGIN:DAYLIGHT
TZOFFSETFROM:+0000
TZOFFSETTO:+0100
TZNAME:BST
DTSTART:20200329T020000Z
RRULE:FREQ=YEARLY;BYMONTH=3;BYDAY=-1SU
END:DAYLIGHT
BEGIN:STANDARD
TZOFFSETFROM:+0100
TZOFFSETTO:+0000
TZNAME:GMT
DTSTART:20201025T020000Z
RRULE:FREQ=YEARLY;BYMONTH=10;BYDAY=-1SU
END:STANDARD
END:VTIMEZONE
BEGIN:VEVENT
SUMMARY:Mensagem de lâmpadas de posição queimadas.
DTSTAMP:20200628T012951Z
SEQUENCE:0
UID:1-1-86fbbc811b3eec70892e531f2a749fb4@clubedoargo.com
ORGANIZER;CN="Guilherme Alberto Santos A":webmaster@clubedoa
	rgo.com
DESCRIPTION:\n\n	Boa noite.\n\n\n\n	Alguém sabe .e dizer o que fazer qu
	ando acusa a mensagem \"verificar luzes de posição\"\n\n\n\n	Nunca troqu
	ei lâmpadas de posição no carro\, portanto são as lâmpadas originais\
	, e de repente (sem estar NENHUMA lâmpada queimada) passou a dar essa men
	sagem.\n\n\n\n	No painel\, mostra o desenho das lâmpadas dianteiras\, mas
	 já chequei todas\, inclusive as de placas......\n\n\n\n
DTSTART:20200628T030000Z
END:VEVENT
END:VCALENDAR
